Workbook

Sheet دستور العمل  استخراج از سامانه 
A1: شیت مربوط به جمعیت تحت پوشش ابتدای سال، همان جمعیت تأیید شده توسط واحد آمار مرکز بهداشت / شبکه بهداشت است و باید در ابتدای سال تکمیل گردد.
A4: تولد
A24: تولد
A44: مرگ
A64: مرگ

Sheet جمعیت تحت پوشش ابتدای سال
A1: جمعیت تحت پوشش
B2: جنسیت | D2: ملیت | F2: نوع جمعیت | J2: مجموع
A3: بازه سنی | B3: مرد | C3: زن | D3: ایرانی | E3: غیر ایرانی | F3: شهری | G3: روستایی | H3: عشایر | I3: حاشیه | J3: مجموع جنسیت | K3: مجموع ملیت | L3: مجموع نوع جمعیت
A4: زیر یکماه | J4: =B4+C4 -> 0 | K4: =D4+E4 -> 0 | L4: =F4+G4+H4+I4 -> 0
A5: یکماه تا یکسال | J5: =B5+C5 -> 0 | K5: =D5+E5 -> 0 | L5: =F5+G5+H5+I5 -> 0 | M5: =L4+L5 -> 0 | N5: زیر یکسال
A6: 1-4 سال | J6: =B6+C6 -> 0 | K6: =D6+E6 -> 0 | L6: =F6+G6+H6+I6 -> 0 | M6: =L6+L5+L4 -> 0 | N6: زیر پنجسال
A7: 5-6 سال | J7: =B7+C7 -> 0 | K7: =D7+E7 -> 0 | L7: =F7+G7+H7+I7 -> 0 | M7: =L7+L8+L9+L10 -> 0 | N7: نوجوانان
A8: 7-9 سال | J8: =B8+C8 -> 0 | K8: =D8+E8 -> 0 | L8: =F8+G8+H8+I8 -> 0 | M8: =L11+L12+L13 -> 0 | N8: جوانان
A9: 10-14 سال | J9: =B9+C9 -> 0 | K9: =D9+E9 -> 0 | L9: =F9+G9+H9+I9 -> 0 | M9: =L14+L15+L16+L17+L18+L19 -> 0 | N9: میانسالان
A10: 15-17 سال | J10: =B10+C10 -> 0 | K10: =D10+E10 -> 0 | L10: =F10+G10+H10+I10 -> 0 | M10: =L20+L21+L22+L23+L24+L25 -> 0 | N10: سالمندان
A11: 18-19 سال | J11: =B11+C11 -> 0 | K11: =D11+E11 -> 0 | L11: =F11+G11+H11+I11 -> 0 | M11: =M6+M7+M8+M9+M10 -> 0 | N11: جمع کل
A12: 20-24 سال | J12: =B12+C12 -> 0 | K12: =D12+E12 -> 0 | L12: =F12+G12+H12+I12 -> 0
A13: 25-29 سال | J13: =B13+C13 -> 0 | K13: =D13+E13 -> 0 | L13: =F13+G13+H13+I13 -> 0
A14: 30-34 سال | J14: =B14+C14 -> 0 | K14: =D14+E14 -> 0 | L14: =F14+G14+H14+I14 -> 0
A15: 35-39 سال | J15: =B15+C15 -> 0 | K15: =D15+E15 -> 0 | L15: =F15+G15+H15+I15 -> 0
A16: 40-44 سال | J16: =B16+C16 -> 0 | K16: =D16+E16 -> 0 | L16: =F16+G16+H16+I16 -> 0
A17: 45-49 سال | J17: =B17+C17 -> 0 | K17: =D17+E17 -> 0 | L17: =F17+G17+H17+I17 -> 0
A18: 50-54 سال | J18: =B18+C18 -> 0 | K18: =D18+E18 -> 0 | L18: =F18+G18+H18+I18 -> 0
A19: 55-59 سال | J19: =B19+C19 -> 0 | K19: =D19+E19 -> 0 | L19: =F19+G19+H19+I19 -> 0
A20: 60-64 سال | J20: =B20+C20 -> 0 | K20: =D20+E20 -> 0 | L20: =F20+G20+H20+I20 -> 0
A21: 65-69 سال | J21: =B21+C21 -> 0 | K21: =D21+E21 -> 0 | L21: =F21+G21+H21+I21 -> 0
A22: 70-74 سال | J22: =B22+C22 -> 0 | K22: =D22+E22 -> 0 | L22: =F22+G22+H22+I22 -> 0
A23: 75-79 سال | J23: =B23+C23 -> 0 | K23: =D23+E23 -> 0 | L23: =F23+G23+H23+I23 -> 0
... A25: 85 سال و بیشتر | J25: =B25+C25 -> 0 | K25: =D25+E25 -> 0 | L25: =F25+G25+H25+I25 -> 0
A26: مجموع | B26: =SUM(B4:B25) -> 0 | C26: =SUM(C4:C25) -> 0 | D26: =SUM(D4:D25) -> 0 | E26: =SUM(E4:E25) -> 0 | F26: =SUM(F4:F25) -> 0 | G26: =SUM(G4:G25) -> 0 | H26: =SUM(H4:H25) -> 0 | I26: =SUM(I4:I25) -> 0 | ... L26: =SUM(L4:L25) -> 0
D28: ایرانی | E28: غیر ایرانی | F28: کل
A29: خانوار | F29: =D29+E29 -> 0
A31: زنان کل همسردار | D31: زنان ایرانی
A32: 10-14 سال | D32: 10-14 سال
A33: 15-17 سال | D33: 15-19 سال
A34: 18-19 سال | D34: 20-24 سال
A35: 20-24 سال | D35: 25-29 سال
A36: 25-29 سال | D36: 30-34 سال
A37: 30-34 سال | D37: 35-39 سال
A38: 35-39 سال | D38: 40-44 سال
A39: 40-44 سال | D39: 45-49 سال
A40: 45-49 سال | D40: 50-54 سال
A41: 50-54 سال | D41: مجموع | E41: =E40+E39+E38+E37+E36+E35+E34+E33+E32+E31 -> 0
A42: مجموع | B42: =B41+B40+B39+B38+B37+B36+B35+B34+B33+B32 -> 0

Sheet تولد
A1: جدول تولد سامانه سیب
A2: خانه بهداشت / پایگاه سلامت / مرکز خدمات جامع سلامت / شهرستان | B2: ملیت | C2: مرده زایی | E2: تولد | G2: وزن هنگام تولد وجنس نوزاد زنده بدنیا آمده | M2: سن مادر در این تولد زنده | W2: شرایط زایمان | AA2: نوع زایمان | AC2: 2قلو | AD2: 3قلو
C3: مرده بدنیا آمده | E3: زنده بدنیا آمده | G3: کمتراز2500گرم | I3: 2500گرم وبیشتر | K3: وزن نشده | M3: 10تا14 | N3: 15تا19 | O3: 20تا24 | P3: 25تا29 | Q3: 30تا34 | R3: 35تا39 | S3: 40تا44 | T3: 45تا49 | U3: 50 تا 54 | V3: 55سال و بالاتر | W3: بیمارستان | X3: درمنزل زائو توسط | AA3: طبیعی | AB3: سزارین
C4: پسر | D4: دختر | E4: پسر | F4: دختر | G4: پسر | H4: دختر | I4: پسر | J4: دختر | K4: پسر | L4: دختر | X4: مامای تحصیل کرده | Y4: مامای دوره دیده | Z4: مامای دوره ندیده
A5: ......... | B5: ایرانی | V5: 0 | W5: 0 | X5: 0 | Y5: 0 | Z5: 0 | AA5: 0 | AB5: 0 | AC5: 0 | AD5: 0
B6: غیر ایرانی | V6: 0 | W6: 0 | X6: 0 | Y6: 0 | Z6: 0 | AA6: 0 | AB6: 0 | AC6: 0 | AD6: 0
B7: کل | C7: =C5+C6 -> 0 | D7: =D5+D6 -> 0 | E7: =E5+E6 -> 0 | F7: =F5+F6 -> 0 | G7: =G5+G6 -> 0 | H7: =H5+H6 -> 0 | I7: =I5+I6 -> 0 | J7: =J5+J6 -> 0 | ... AD7: =AD5+AD6 -> 0
B9: جمع | C9: =C7+D7 -> 0 | E9: =E7+F7 -> 0 | G9: =G7+H7+I7+J7+K7+L7 -> 0 | M9: =M7+N7+O7+P7+Q7+R7+S7+T7+U7+V7 -> 0 | W9: =W7+X7+Y7+Z7 -> 0 | AA9: =AA7+AB7 -> 0 | AC9: =AC7+AD7 -> 0
E10: عدد ثبت شده در ستون تولد زنده، وزن هنگام تولد و سن مادر باید با هم برابر باشد. | W10: عدد ثبت شده در ستون شرایط زایمان و نوع زایمان باید با هم برابر باشد.
X12: تولد | Y12: وزن | Z12: سن مادر | AA12: شرایط زایمان | AB12: نوع زایمان
W13: ایرانی | X13: =E5+F5 -> 0 | Y13: =G5+H5+I5+J5+K5+L5 -> 0 | Z13: =M5+N5+O5+P5+Q5+R5+S5+T5+U5+V5 -> 0 | AA13: =W5+X5+Y5+Z5 -> 0 | AB13: =AA5+AB5 -> 0
W14: غیرایرانی | X14: =E6+F6 -> 0 | Y14: =G6+H6+I6+J6+K6+L6 -> 0 | Z14: =M6+N6+O6+P6+Q6+R6+S6+T6+U6+V6 -> 0 | AA14: =W6+X6+Y6+Z6 -> 0 | AB14: =AA6+AB6 -> 0
W15: کل | X15: =X13+X14 -> 0 | Y15: =Y13+Y14 -> 0 | Z15: =Z13+Z14 -> 0 | AA15: =AA13+AA14 -> 0 | AB15: =AB13+AB14 -> 0

Sheet مرگ
B1: جدول مرگ بر حسب سن و جنس
C2: شهری ایرانی | F2: روستایی ایرانی | I2: شهری افاغنه | L2: روستایی افاغنه | O2: جمع
B3: سن | C3: زن | D3: مرد | E3: جمع | F3: زن | G3: مرد | H3: جمع | I3: زن | J3: مرد | K3: جمع | L3: زن | M3: مرد | N3: جمع | O3: زن | P3: مرد | Q3: جمع | S3: تعداد کل مرگ ایرانی | T3: =E25+H25 -> 0
B4: زیر یکماه | C4: 0 | D4: 0 | E4: =C4+D4 -> 0 | F4: 0 | G4: 0 | H4: =F4+G4 -> 0 | I4: 0 | J4: 0 | K4: =I4+J4 -> 0 | L4: 0 | M4: 0 | N4: =L4+M4 -> 0 | O4: =C4+F4+I4+L4 -> 0 | P4: =D4+G4+J4+M4 -> 0 | Q4: =E4+H4+K4+N4 -> 0 | S4: تعداد کل مرگ غیر ایرانی | T4: =K25+N25 -> 0
B5: یکماه تا یکسال | C5: 0 | D5: 0 | E5: =C5+D5 -> 0 | F5: 0 | G5: 0 | H5: =F5+G5 -> 0 | I5: 0 | J5: 0 | K5: =I5+J5 -> 0 | L5: 0 | M5: 0 | N5: =L5+M5 -> 0 | O5: =C5+F5+I5+L5 -> 0 | P5: =D5+G5+J5+M5 -> 0 | Q5: =E5+H5+K5+N5 -> 0 | S5: تعداد کل مرگ ها | T5: =T3+T4 -> 0
B6: 1-4 | C6: 0 | D6: 0 | E6: =C6+D6 -> 0 | F6: 0 | G6: 0 | H6: =F6+G6 -> 0 | I6: 0 | J6: 0 | K6: =I6+J6 -> 0 | L6: 0 | M6: 0 | N6: =L6+M6 -> 0 | O6: =C6+F6+I6+L6 -> 0 | P6: =D6+G6+J6+M6 -> 0 | Q6: =E6+H6+K6+N6 -> 0
B7: 5-9 | C7: 0 | D7: 0 | E7: =C7+D7 -> 0 | F7: 0 | G7: 0 | H7: =F7+G7 -> 0 | I7: 0 | J7: 0 | K7: =I7+J7 -> 0 | L7: 0 | M7: 0 | N7: =L7+M7 -> 0 | O7: =C7+F7+I7+L7 -> 0 | P7: =D7+G7+J7+M7 -> 0 | Q7: =E7+H7+K7+N7 -> 0
B8: 10-14 | C8: 0 | D8: 0 | E8: =C8+D8 -> 0 | F8: 0 | G8: 0 | H8: =F8+G8 -> 0 | I8: 0 | J8: 0 | K8: =I8+J8 -> 0 | L8: 0 | M8: 0 | N8: =L8+M8 -> 0 | O8: =C8+F8+I8+L8 -> 0 | P8: =D8+G8+J8+M8 -> 0 | Q8: =E8+H8+K8+N8 -> 0
B9: 15-17 | C9: 0 | D9: 0 | E9: =C9+D9 -> 0 | F9: 0 | G9: 0 | H9: =F9+G9 -> 0 | I9: 0 | J9: 0 | K9: =I9+J9 -> 0 | L9: 0 | M9: 0 | N9: =L9+M9 -> 0 | O9: =C9+F9+I9+L9 -> 0 | P9: =D9+G9+J9+M9 -> 0 | Q9: =E9+H9+K9+N9 -> 0
B10: 18-19 | C10: 0 | D10: 0 | E10: =C10+D10 -> 0 | F10: 0 | G10: 0 | H10: =F10+G10 -> 0 | I10: 0 | J10: 0 | K10: =I10+J10 -> 0 | L10: 0 | M10: 0 | N10: =L10+M10 -> 0 | O10: =C10+F10+I10+L10 -> 0 | P10: =D10+G10+J10+M10 -> 0 | Q10: =E10+H10+K10+N10 -> 0
B11: 20-24 | C11: 0 | D11: 0 | E11: =C11+D11 -> 0 | F11: 0 | G11: 0 | H11: =F11+G11 -> 0 | I11: 0 | J11: 0 | K11: =I11+J11 -> 0 | L11: 0 | M11: 0 | N11: =L11+M11 -> 0 | O11: =C11+F11+I11+L11 -> 0 | P11: =D11+G11+J11+M11 -> 0 | Q11: =E11+H11+K11+N11 -> 0
B12: 25-29 | C12: 0 | D12: 0 | E12: =C12+D12 -> 0 | F12: 0 | G12: 0 | H12: =F12+G12 -> 0 | I12: 0 | J12: 0 | K12: =I12+J12 -> 0 | L12: 0 | M12: 0 | N12: =L12+M12 -> 0 | O12: =C12+F12+I12+L12 -> 0 | P12: =D12+G12+J12+M12 -> 0 | Q12: =E12+H12+K12+N12 -> 0
B13: 30-34 | C13: 0 | D13: 0 | E13: =C13+D13 -> 0 | F13: 0 | G13: 0 | H13: =F13+G13 -> 0 | I13: 0 | J13: 0 | K13: =I13+J13 -> 0 | L13: 0 | M13: 0 | N13: =L13+M13 -> 0 | O13: =C13+F13+I13+L13 -> 0 | P13: =D13+G13+J13+M13 -> 0 | Q13: =E13+H13+K13+N13 -> 0
B14: 35-39 | C14: 0 | D14: 0 | E14: =C14+D14 -> 0 | F14: 0 | G14: 0 | H14: =F14+G14 -> 0 | I14: 0 | J14: 0 | K14: =I14+J14 -> 0 | L14: 0 | M14: 0 | N14: =L14+M14 -> 0 | O14: =C14+F14+I14+L14 -> 0 | P14: =D14+G14+J14+M14 -> 0 | Q14: =E14+H14+K14+N14 -> 0
B15: 40-44 | C15: 0 | D15: 0 | E15: =C15+D15 -> 0 | F15: 0 | G15: 0 | H15: =F15+G15 -> 0 | I15: 0 | J15: 0 | K15: =I15+J15 -> 0 | L15: 0 | M15: 0 | N15: =L15+M15 -> 0 | O15: =C15+F15+I15+L15 -> 0 | P15: =D15+G15+J15+M15 -> 0 | Q15: =E15+H15+K15+N15 -> 0
B16: 45-49 | C16: 0 | D16: 0 | E16: =C16+D16 -> 0 | F16: 0 | G16: 0 | H16: =F16+G16 -> 0 | I16: 0 | J16: 0 | K16: =I16+J16 -> 0 | L16: 0 | M16: 0 | N16: =L16+M16 -> 0 | O16: =C16+F16+I16+L16 -> 0 | P16: =D16+G16+J16+M16 -> 0 | Q16: =E16+H16+K16+N16 -> 0
B17: 50-54 | C17: 0 | D17: 0 | E17: =C17+D17 -> 0 | F17: 0 | G17: 0 | H17: =F17+G17 -> 0 | I17: 0 | J17: 0 | K17: =I17+J17 -> 0 | L17: 0 | M17: 0 | N17: =L17+M17 -> 0 | O17: =C17+F17+I17+L17 -> 0 | P17: =D17+G17+J17+M17 -> 0 | Q17: =E17+H17+K17+N17 -> 0
... B24: 85 و بیشتر | C24: 0 | D24: 0 | E24: =C24+D24 -> 0 | F24: 0 | G24: 0 | H24: =F24+G24 -> 0 | I24: 0 | J24: 0 | K24: =I24+J24 -> 0 | L24: 0 | M24: 0 | N24: =L24+M24 -> 0 | O24: =C24+F24+I24+L24 -> 0 | P24: =D24+G24+J24+M24 -> 0 | Q24: =E24+H24+K24+N24 -> 0
B25: مجموع | C25: =SUM(C4:C24) -> 0 | D25: =SUM(D4:D24) -> 0 | E25: =SUM(E4:E24) -> 0 | F25: =SUM(F4:F24) -> 0 | G25: =SUM(G4:G24) -> 0 | H25: =SUM(H4:H24) -> 0 | I25: =SUM(I4:I24) -> 0 | J25: =SUM(J4:J24) -> 0 | ... Q25: =SUM(Q4:Q24) -> 0

Sheet مرگ مادر به علت عوارض بارداری
A1: مرگ مادر به علت عوارض بارداری و زایمان
A2: گروه سنی | B2: شهری | E2: روستایی | H2: کل
B3: ایرانی | C3: غیر ایرانی | D3: کل | E3: ایرانی | F3: غیر ایرانی | G3: کل | H3: ایرانی | I3: غیر ایرانی | J3: کل
A4: 10تا14 سال | B4: 0 | C4: 0 | D4: =B4+C4 -> 0 | E4: 0 | F4: 0 | G4: =E4+F4 -> 0 | H4: =B4+E4 -> 0 | I4: =C4+F4 -> 0 | J4: =D4+G4 -> 0
A5: 15تا19 سال | B5: 0 | C5: 0 | D5: =B5+C5 -> 0 | E5: 0 | F5: 0 | G5: =E5+F5 -> 0 | H5: =B5+E5 -> 0 | I5: =C5+F5 -> 0 | J5: =H5+I5 -> 0
A6: 20تا24 سال | B6: 0 | C6: 0 | D6: =B6+C6 -> 0 | E6: 0 | F6: 0 | G6: =E6+F6 -> 0 | H6: =B6+E6 -> 0 | I6: =C6+F6 -> 0 | J6: =H6+I6 -> 0
A7: 25تا29 سال | B7: 0 | C7: 0 | D7: =B7+C7 -> 0 | E7: 0 | F7: 0 | G7: =E7+F7 -> 0 | H7: =B7+E7 -> 0 | I7: =C7+F7 -> 0 | J7: =H7+I7 -> 0
A8: 30تا34 سال | B8: 0 | C8: 0 | D8: =B8+C8 -> 0 | E8: 0 | F8: 0 | G8: =E8+F8 -> 0 | H8: =B8+E8 -> 0 | I8: =C8+F8 -> 0 | J8: =H8+I8 -> 0
A9: 35تا39 سال | B9: 0 | C9: 0 | D9: =B9+C9 -> 0 | E9: 0 | F9: 0 | G9: =E9+F9 -> 0 | H9: =B9+E9 -> 0 | I9: =C9+F9 -> 0 | J9: =H9+I9 -> 0
A10: 40تا44 سال | B10: 0 | C10: 0 | D10: =B10+C10 -> 0 | E10: 0 | F10: 0 | G10: =E10+F10 -> 0 | H10: =B10+E10 -> 0 | I10: =C10+F10 -> 0 | J10: =H10+I10 -> 0
A11: 45تا49 سال | B11: 0 | C11: 0 | D11: =B11+C11 -> 0 | E11: 0 | F11: 0 | G11: =E11+F11 -> 0 | H11: =B11+E11 -> 0 | I11: =C11+F11 -> 0 | J11: =H11+I11 -> 0
A12: 50تا54 سال | B12: 0 | C12: 0 | D12: =B12+C12 -> 0 | E12: 0 | F12: 0 | G12: =E12+F12 -> 0 | H12: =B12+E12 -> 0 | I12: =C12+F12 -> 0 | J12: =H12+I12 -> 0
A13: مجموع | B13: =SUM(B4:B12) -> 0 | C13: =SUM(C4:C12) -> 0 | D13: =SUM(D4:D12) -> 0 | E13: =SUM(E4:E12) -> 0 | F13: =SUM(F4:F12) -> 0 | G13: =SUM(G4:G12) -> 0 | H13: =SUM(H4:H12) -> 0 | I13: =SUM(I4:I12) -> 0 | J13: =SUM(J4:J12) -> 0

Sheet گردونه 
A1: گردونه زيج حياتي
A2: عنوان شاخص | C2: فروردين | D2: ارديبهشت | E2: خرداد | F2: تير | G2: مرداد | H2: شهريور | I2: مهر | J2: آبان | K2: آذر | L2: دي | M2: بهمن | N2: اسفند | O2: جمع
A3: تولد زنده | B3: ایرانی | C3: 0 | D3: 0 | E3: 0 | F3: 0 | G3: 0 | H3: 0 | I3: 0 | J3: 0 | K3: 0 | L3: 0 | M3: 0 | N3: 0 | O3: =SUM(C3:N3) -> 0
B4: غیر ایرانی | C4: 0 | D4: 0 | E4: 0 | F4: 0 | G4: 0 | H4: 0 | I4: 0 | J4: 0 | K4: 0 | L4: 0 | M4: 0 | N4: 0 | O4: =SUM(C4:N4) -> 0
A5: مرگ زير يك سال | B5: ایرانی | C5: 0 | D5: 0 | E5: 0 | F5: 0 | G5: 0 | H5: 0 | I5: 0 | J5: 0 | K5: 0 | L5: 0 | M5: 0 | N5: 0 | O5: =SUM(C5:N5) -> 0
B6: غیر ایرانی | C6: 0 | D6: 0 | E6: 0 | F6: 0 | G6: 0 | H6: 0 | I6: 0 | J6: 0 | K6: 0 | L6: 0 | M6: 0 | N6: 0 | O6: =SUM(C6:N6) -> 0
A7: مرگ يك تا 5 سال | B7: ایرانی | C7: 0 | D7: 0 | E7: 0 | F7: 0 | G7: 0 | H7: 0 | I7: 0 | J7: 0 | K7: 0 | L7: 0 | M7: 0 | N7: 0 | O7: =SUM(C7:N7) -> 0
B8: غیر ایرانی | C8: 0 | D8: 0 | E8: 0 | F8: 0 | G8: 0 | H8: 0 | I8: 0 | J8: 0 | K8: 0 | L8: 0 | M8: 0 | N8: 0 | O8: =SUM(C8:N8) -> 0
A9: مرگ بالاي 5 سال | B9: ایرانی | C9: 0 | D9: 0 | E9: 0 | F9: 0 | G9: 0 | H9: 0 | I9: 0 | J9: 0 | K9: 0 | L9: 0 | M9: 0 | N9: 0 | O9: =SUM(C9:N9) -> 0
B10: غیر ایرانی | C10: 0 | D10: 0 | E10: 0 | F10: 0 | G10: 0 | H10: 0 | I10: 0 | J10: 0 | K10: 0 | L10: 0 | M10: 0 | N10: 0 | O10: =SUM(C10:N10) -> 0
A11: کل مرگ ها | B11: ایرانی | C11: =C5+C7+C9 -> 0 | D11: =D5+D7+D9 -> 0 | E11: =E5+E7+E9 -> 0 | F11: =F5+F7+F9 -> 0 | G11: =G5+G7+G9 -> 0 | H11: =H5+H7+H9 -> 0 | I11: =I5+I7+I9 -> 0 | J11: =J5+J7+J9 -> 0 | ... O11: =O5+O7+O9 -> 0
B12: غیر ایرانی | C12: =C6+C8+C10 -> 0 | D12: =D6+D8+D10 -> 0 | E12: =E6+E8+E10 -> 0 | F12: =F6+F8+F10 -> 0 | G12: =G6+G8+G10 -> 0 | H12: =H6+H8+H10 -> 0 | I12: =I6+I8+I10 -> 0 | J12: =J6+J8+J10 -> 0 | ... O12: =O6+O8+O10 -> 0

Sheet باروری کلی
A1: جدول باروری کلی
A2: گروه سنی | B2: جمعیت کل زنان ایرانی | C2: موالید ایرانی | D2: میزان باروری اختصاصی سنی
A3: 10-14 سال | B3: ='جمعیت تحت پوشش ابتدای سال'!E32 -> 0 | C3: =تولد!M5 -> 0 | D3: =E3 -> 0 | E3: =IFERROR(C3/B3*1000,0) -> 0
A4: 15-19 سال | B4: ='جمعیت تحت پوشش ابتدای سال'!E33 -> 0 | C4: =تولد!N5 -> 0 | D4: =E4 -> 0 | E4: =IFERROR(C4/B4*1000,0) -> 0
A5: 20-24 سال | B5: ='جمعیت تحت پوشش ابتدای سال'!E34 -> 0 | C5: =تولد!O5 -> 0 | D5: =E5 -> 0 | E5: =IFERROR(C5/B5*1000,0) -> 0
A6: 25-29 سال | B6: ='جمعیت تحت پوشش ابتدای سال'!E35 -> 0 | C6: =تولد!P5 -> 0 | D6: =E6 -> 0 | E6: =IFERROR(C6/B6*1000,0) -> 0
A7: 30-34 سال | B7: ='جمعیت تحت پوشش ابتدای سال'!E36 -> 0 | C7: =تولد!Q5 -> 0 | D7: =E7 -> 0 | E7: =IFERROR(C7/B7*1000,0) -> 0
A8: 35-39 سال | B8: ='جمعیت تحت پوشش ابتدای سال'!E37 -> 0 | C8: =تولد!R5 -> 0 | D8: =E8 -> 0 | E8: =IFERROR(C8/B8*1000,0) -> 0
A9: 40-44 سال | B9: ='جمعیت تحت پوشش ابتدای سال'!E38 -> 0 | C9: =تولد!S5 -> 0 | D9: =E9 -> 0 | E9: =IFERROR(C9/B9*1000,0) -> 0
A10: 45-49 سال | B10: ='جمعیت تحت پوشش ابتدای سال'!E39 -> 0 | C10: =تولد!T5 -> 0 | D10: =E10 -> 0 | E10: =IFERROR(C10/B10*1000,0) -> 0
A11: 50-54 سال | B11: ='جمعیت تحت پوشش ابتدای سال'!E40 -> 0 | C11: =تولد!U5 -> 0 | D11: =E11 -> 0 | E11: =IFERROR(C11/B11*1000,0) -> 0
A12: مجموع | B12: =B3+B4+B5+B6+B7+B8+B9+B10+B11 -> 0 | C12: =C3+C4+C5+C6+C7+C8+C9+C10+C11 -> 0 | D12: =E12 -> 0 | E12: =IFERROR(C12/B12*1000,0) -> 0
A13: مجموع میزان های باروری اختصاصی سنی | B13: =D3+D4+D5+D6+D7+D8+D9+D10+D11 -> 0
A14: TFR (میزان باروری کلی) | B14: =(B13*5)/1000 -> 0 | E14: با وضعیت فعلی یک زن در طول سنین باروری چه تعداد فرزند به دنیا می آ ورد.
A15: GFR (میزان باروری عمومی) | B15: =E12 -> 0 | E15: تعداد موالید به ازای هزار نفر زن در سنین باروری

Sheet هرم سنی جمعیت ابتدای سال
B2: مرد | C2: زن
A3: زیریکسال | B3: =J40 -> #DIV/0! | C3: =-H40 -> #DIV/0!
A4: 1تا 4سال | B4: =J41 -> #DIV/0! | C4: =-H41 -> #DIV/0!
A5: 5تا 9 سال | B5: =J42 -> #DIV/0! | C5: =-H42 -> #DIV/0!
A6: 10تا 14 سال | B6: =J43 -> #DIV/0! | C6: =-H43 -> #DIV/0!
A7: 15تا 19سال | B7: =J44 -> #DIV/0! | C7: =-H44 -> #DIV/0!
A8: 20تا 24سال | B8: =J45 -> #DIV/0! | C8: =-H45 -> #DIV/0!
A9: 25تا 29 سال | B9: =J46 -> #DIV/0! | C9: =-H46 -> #DIV/0!
A10: 30تا 34سال | B10: =J47 -> #DIV/0! | C10: =-H47 -> #DIV/0!
A11: 35تا39سال | B11: =J48 -> #DIV/0! | C11: =-H48 -> #DIV/0!
A12: 40تا44سال | B12: =J49 -> #DIV/0! | C12: =-H49 -> #DIV/0!
A13: 45تا49سال | B13: =J50 -> #DIV/0! | C13: =-H50 -> #DIV/0!
A14: 50تا54سال | B14: =J51 -> #DIV/0! | C14: =-H51 -> #DIV/0!
... A21: 85سال به بالا | B21: =J58 -> #DIV/0! | C21: =-H58 -> #DIV/0!
B22: =J59 -> #DIV/0! | C22: =-H59 -> #DIV/0!
A37: جمعيت به تفکیک گروه سنی
G39: كل | H39: درصدزن | I39: زن | J39: درصدمرد | K39: مرد
G40: =I40+K40 -> 0 | H40: =I40/$G$59*100 -> #DIV/0! | I40: ='جمعیت تحت پوشش ابتدای سال'!C4+'جمعیت تحت پوشش ابتدای سال'!C5 -> 0 | J40: =K40/$G$59*100 -> #DIV/0! | K40: ='جمعیت تحت پوشش ابتدای سال'!B4+'جمعیت تحت پوشش ابتدای سال'!B5 -> 0 | Q40: زيريكسال
G41: =I41+K41 -> 0 | H41: =I41/$G$59*100 -> #DIV/0! | I41: ='جمعیت تحت پوشش ابتدای سال'!C6 -> 0 | J41: =K41/$G$59*100 -> #DIV/0! | K41: ='جمعیت تحت پوشش ابتدای سال'!B6 -> 0 | Q41: 1-4 سال
G42: =I42+K42 -> 0 | H42: =I42/$G$59*100 -> #DIV/0! | I42: ='جمعیت تحت پوشش ابتدای سال'!C7+'جمعیت تحت پوشش ابتدای سال'!C8 -> 0 | J42: =K42/$G$59*100 -> #DIV/0! | K42: ='جمعیت تحت پوشش ابتدای سال'!B7+'جمعیت تحت پوشش ابتدای سال'!B8 -> 0 | Q42: 5-9 سال
G43: =I43+K43 -> 0 | H43: =I43/$G$59*100 -> #DIV/0! | I43: ='جمعیت تحت پوشش ابتدای سال'!C9 -> 0 | J43: =K43/$G$59*100 -> #DIV/0! | K43: ='جمعیت تحت پوشش ابتدای سال'!B9 -> 0 | Q43: 10-14 سال
G44: =I44+K44 -> 0 | H44: =I44/$G$59*100 -> #DIV/0! | I44: ='جمعیت تحت پوشش ابتدای سال'!C10+'جمعیت تحت پوشش ابتدای سال'!C11 -> 0 | J44: =K44/$G$59*100 -> #DIV/0! | K44: ='جمعیت تحت پوشش ابتدای سال'!B10+'جمعیت تحت پوشش ابتدای سال'!B11 -> 0 | Q44: 15-19 سال
G45: =I45+K45 -> 0 | H45: =I45/$G$59*100 -> #DIV/0! | I45: ='جمعیت تحت پوشش ابتدای سال'!C12 -> 0 | J45: =K45/$G$59*100 -> #DIV/0! | K45: ='جمعیت تحت پوشش ابتدای سال'!B12 -> 0 | Q45: 20-24 سال
G46: =I46+K46 -> 0 | H46: =I46/$G$59*100 -> #DIV/0! | I46: ='جمعیت تحت پوشش ابتدای سال'!C13 -> 0 | J46: =K46/$G$59*100 -> #DIV/0! | K46: ='جمعیت تحت پوشش ابتدای سال'!B13 -> 0 | Q46: 25-29 سال
G47: =I47+K47 -> 0 | H47: =I47/$G$59*100 -> #DIV/0! | I47: ='جمعیت تحت پوشش ابتدای سال'!C14 -> 0 | J47: =K47/$G$59*100 -> #DIV/0! | K47: ='جمعیت تحت پوشش ابتدای سال'!B14 -> 0 | Q47: 30-34 سال
G48: =I48+K48 -> 0 | H48: =I48/$G$59*100 -> #DIV/0! | I48: ='جمعیت تحت پوشش ابتدای سال'!C15 -> 0 | J48: =K48/$G$59*100 -> #DIV/0! | K48: ='جمعیت تحت پوشش ابتدای سال'!B15 -> 0 | Q48: 35-39 سال
G49: =I49+K49 -> 0 | H49: =I49/$G$59*100 -> #DIV/0! | I49: ='جمعیت تحت پوشش ابتدای سال'!C16 -> 0 | J49: =K49/$G$59*100 -> #DIV/0! | K49: ='جمعیت تحت پوشش ابتدای سال'!B16 -> 0 | Q49: 40-44 سال
G50: =I50+K50 -> 0 | H50: =I50/$G$59*100 -> #DIV/0! | I50: ='جمعیت تحت پوشش ابتدای سال'!C17 -> 0 | J50: =K50/$G$59*100 -> #DIV/0! | K50: ='جمعیت تحت پوشش ابتدای سال'!B17 -> 0 | Q50: 45-49 سال
G51: =I51+K51 -> 0 | H51: =I51/$G$59*100 -> #DIV/0! | I51: ='جمعیت تحت پوشش ابتدای سال'!C18 -> 0 | J51: =K51/$G$59*100 -> #DIV/0! | K51: ='جمعیت تحت پوشش ابتدای سال'!B18 -> 0 | Q51: 50-54 سال
G52: =I52+K52 -> 0 | H52: =I52/$G$59*100 -> #DIV/0! | I52: ='جمعیت تحت پوشش ابتدای سال'!C19 -> 0 | J52: =K52/$G$59*100 -> #DIV/0! | K52: ='جمعیت تحت پوشش ابتدای سال'!B19 -> 0 | Q52: 55-59 سال
G53: =I53+K53 -> 0 | H53: =I53/$G$59*100 -> #DIV/0! | I53: ='جمعیت تحت پوشش ابتدای سال'!C20 -> 0 | J53: =K53/$G$59*100 -> #DIV/0! | K53: ='جمعیت تحت پوشش ابتدای سال'!B20 -> 0 | Q53: 60-64 سال
G54: =I54+K54 -> 0 | H54: =I54/$G$59*100 -> #DIV/0! | I54: ='جمعیت تحت پوشش ابتدای سال'!C21 -> 0 | J54: =K54/$G$59*100 -> #DIV/0! | K54: ='جمعیت تحت پوشش ابتدای سال'!B21 -> 0 | Q54: 65-69 سال
G55: =I55+K55 -> 0 | H55: =I55/$G$59*100 -> #DIV/0! | I55: ='جمعیت تحت پوشش ابتدای سال'!C22 -> 0 | J55: =K55/$G$59*100 -> #DIV/0! | K55: ='جمعیت تحت پوشش ابتدای سال'!B22 -> 0 | Q55: 70-74 سال
G56: =I56+K56 -> 0 | H56: =I56/$G$59*100 -> #DIV/0! | I56: ='جمعیت تحت پوشش ابتدای سال'!C23 -> 0 | J56: =K56/$G$59*100 -> #DIV/0! | K56: ='جمعیت تحت پوشش ابتدای سال'!B23 -> 0 | Q56: 75-79 سال
... G58: =I58+K58 -> 0 | H58: =I58/$G$59*100 -> #DIV/0! | I58: ='جمعیت تحت پوشش ابتدای سال'!C25 -> 0 | J58: =K58/$G$59*100 -> #DIV/0! | K58: ='جمعیت تحت پوشش ابتدای سال'!B25 -> 0 | Q58: 85 و بيشتر
G59: =SUM(G40:G58) -> 0 | H59: =I59/$G$59*100 -> #DIV/0! | I59: =SUM(I40:I58) -> 0 | J59: =K59/$G$59*100 -> #DIV/0! | K59: =SUM(K40:K58) -> 0 | Q59: جمع كل

Sheet داشبورد شاخص ها
A1: تعداد و درصد جمعیت | G1: ملیت در جمعیت | J1: جنسیت در جمعیت | M1: نوع و درصد جمعیت
A2: تعداد گروه سنی نوزادان | B2: ='جمعیت تحت پوشش ابتدای سال'!L4 -> 0 | D2: درصد گروه سنی نوزادان | E2: =IFERROR(B2/B13*100,0) -> 0 | G2: تعداد ایرانی | H2: ='جمعیت تحت پوشش ابتدای سال'!D26 -> 0 | J2: تعداد مرد | K2: ='جمعیت تحت پوشش ابتدای سال'!B26 -> 0 | M2: تعداد جمعیت شهری | N2: ='جمعیت تحت پوشش ابتدای سال'!F26 -> 0 | P2: درصد جمعیت شهری | Q2: =IFERROR(N2/N10*100,0) -> 0
A3: تعداد گروه سنی زیر یکسال | B3: ='جمعیت تحت پوشش ابتدای سال'!M5 -> 0 | D3: درصد گروه سنی زیر یکسال | E3: =IFERROR(B3/B13*100,0) -> 0 | G3: تعداد غیرایرانی | H3: ='جمعیت تحت پوشش ابتدای سال'!E26 -> 0 | J3: تعداد زن | K3: ='جمعیت تحت پوشش ابتدای سال'!C26 -> 0 | M3: تعداد جمعیت حاشیه | N3: ='جمعیت تحت پوشش ابتدای سال'!I26 -> 0 | P3: درصد جمعیت حاشیه | Q3: =IFERROR(N3/N10*100,0) -> 0
A4: تعداد گروه سنی زیر 5 سال | B4: ='جمعیت تحت پوشش ابتدای سال'!M6 -> 0 | D4: درصد گروه سنی زیر 5 سال | E4: =IFERROR(B4/B13*100,0) -> 0 | M4: تعداد جمعیت شهر و حاشیه | N4: =N2+N3 -> 0 | P4: درصد جمعیت شهر و حاشیه | Q4: =IFERROR(N4/N10*100,0) -> 0
A5: تعداد گروه سنی نوجوانان (5 تا 17 سال تمام) | B5: ='جمعیت تحت پوشش ابتدای سال'!M7 -> 0 | D5: تعداد گروه سنی نوجوانان (5 تا 17 سال تمام) | E5: =IFERROR(B5/B13*100,0) -> 0 | G5: درصد ایرانی | H5: =IFERROR(H2/H8*100,0) -> 0 | J5: درصد مرد | K5: =IFERROR(K2/K8*100,0) -> 0
A6: تعداد گروه سنی جوانان (18 تا 29 سال تمام) | B6: ='جمعیت تحت پوشش ابتدای سال'!M8 -> 0 | D6: تعداد گروه سنی جوانان (18 تا 29 سال تمام) | E6: =IFERROR(B6/B13*100,0) -> 0 | G6: درصد غیرایرانی | H6: =IFERROR(H3/H8*100,0) -> 0 | J6: درصد زن | K6: =IFERROR(K3/K8*100,0) -> 0 | M6: تعداد جمعیت روستایی | N6: ='جمعیت تحت پوشش ابتدای سال'!G26 -> 0 | P6: درصد جمعیت روستایی | Q6: =IFERROR(N6/N10*100,0) -> 0
A7: تعداد گروه سنی میانسالان (30 تا 59 سال تمام) | B7: ='جمعیت تحت پوشش ابتدای سال'!M9 -> 0 | D7: تعداد گروه سنی میانسالان (30 تا 59 سال تمام) | E7: =IFERROR(B7/B13*100,0) -> 0 | M7: تعداد جمعیت عشایر | N7: ='جمعیت تحت پوشش ابتدای سال'!H26 -> 0 | P7: درصد جمعیت عشایر | Q7: =IFERROR(N7/N10*100,0) -> 0
A8: تعداد گروه سنی سالمندان (60 سال و بیشتر) | B8: ='جمعیت تحت پوشش ابتدای سال'!M10 -> 0 | D8: تعداد گروه سنی سالمندان (60 سال و بیشتر) | E8: =IFERROR(B8/B13*100,0) -> 0 | G8: جمعیت کل | H8: =H2+H3 -> 0 | J8: جمعیت کل | K8: =K2+K3 -> 0 | M8: تعداد جمعیت روستا و عشایر | N8: =N6+N7 -> 0 | P8: درصد جمعیت روستا و عشایر | Q8: =IFERROR(N8/N10*100,0) -> 0
A9: تعداد گروه سنی زیر 15 سال | B9: ='جمعیت تحت پوشش ابتدای سال'!L9+'جمعیت تحت پوشش ابتدای سال'!L8+'جمعیت تحت پوشش ابتدای سال'!L7+'جمعیت تحت پوشش ابتدای سال'!L6+'جمعیت تحت پوشش ابتدای سال'!L5+'جمعیت تحت پوشش ابتدای سال'!L4 -> 0 | D9: درصد گروه سنی زیر 15 سال | E9: =IFERROR(B9/B13*100,0) -> 0 | G9: درصد کل | H9: =H5+H6 -> 0 | J9: درصد کل | K9: =K5+K6 -> 0
A10: تعداد گروه سنی 15 تا 64 سال | B10: ='جمعیت تحت پوشش ابتدای سال'!L10+'جمعیت تحت پوشش ابتدای سال'!L11+'جمعیت تحت پوشش ابتدای سال'!L12+'جمعیت تحت پوشش ابتدای سال'!L13+'جمعیت تحت پوشش ابتدای سال'!L14+'جمعیت تحت پوشش ابتدای سال'!L15+'جمعیت تحت پوشش ابتدای سال'!L16+'جمعیت تحت پوشش ابتدای سال'!L17+'جمعیت تحت پوشش ابتدای سال'!L18+'جمعیت تحت پوشش ابتدای سال'!L19+'جمعیت تحت پوشش ابتدای سال'!L20 -> 0 | D10: درصد گروه سنی 15 تا 64 سال | E10: =IFERROR(B10/B13*100,0) -> 0 | M10: جمعیت کل | N10: =N2+N3+N6+N7 -> 0
A11: تعداد گروه سنی 65 سال و بیشتر | B11: ='جمعیت تحت پوشش ابتدای سال'!L21+'جمعیت تحت پوشش ابتدای سال'!L22+'جمعیت تحت پوشش ابتدای سال'!L23+'جمعیت تحت پوشش ابتدای سال'!L24+'جمعیت تحت پوشش ابتدای سال'!L25 -> 0 | D11: درصد گروه سنی 65 سال به بالا | E11: =IFERROR(B11/B13*100,0) -> 0 | M11: درصد کل | N11: =Q4+Q8 -> 0
A12: تعداد گروه سنی 30 تا 70 سال | B12: ='جمعیت تحت پوشش ابتدای سال'!L14+'جمعیت تحت پوشش ابتدای سال'!L15+'جمعیت تحت پوشش ابتدای سال'!L16+'جمعیت تحت پوشش ابتدای سال'!L17+'جمعیت تحت پوشش ابتدای سال'!L18+'جمعیت تحت پوشش ابتدای سال'!L19+'جمعیت تحت پوشش ابتدای سال'!L20+'جمعیت تحت پوشش ابتدای سال'!L21 -> 0 | D12: درصد گروه سنی 30 تا 70 سال | E12: =IFERROR(B12/B13*100,0) -> 0
A13: جمعیت کل | B13: =B4+B5+B6+B7+B8 -> 0 | D13: درصد کل | E13: =E4+E5+E6+E7+E8 -> 0
A15: شاخص های جمعیت | D15: شاخص های موالید | G15: شاخص های مرگ
A16: جمعیت کل | B16: =B17+B18 -> 0 | D16: کل تولد سامانه سیب | E16: =تولد!X15 -> 0 | G16: تعداد مرگ نوزادان (ایرانی) | H16: =مرگ!E4+مرگ!H4 -> 0 | J16: درصد مرگ نوزادان (کل) به کل مرگ | K16: =IFERROR(H20/H28*100,0) -> 0 | M16: میزان مرگ نوزادان (ایرانی) به موالید ایرانی | N16: =IFERROR(H16/E17*1000,0) -> 0 | P16: میزان مرگ زیر 5 سال کل در هزار جمعیت کل | Q16: =IFERROR(H23/B13*1000,0) -> 0
A17: جمعیت ایرانی | B17: ='جمعیت تحت پوشش ابتدای سال'!D26 -> 0 | D17: تولد ایرانی سامانه سیب | E17: =تولد!X13 -> 0 | G17: تعداد مرگ زیر یکسال (ایرانی) | H17: =مرگ!E4+مرگ!E5+مرگ!H4+مرگ!H5 -> 0 | J17: درصد مرگ زیر یکسال (کل) به کل مرگ | K17: =IFERROR(H21/H28*100,0) -> 0 | M17: میزان مرگ زیر یکسال (ایرانی) به موالید ایرانی | N17: =IFERROR(H17/E17*1000,0) -> 0 | P17: میزان مرگ نوجوانان در هزار جمعیت کل | Q17: =IFERROR(H24/B13*1000,0) -> 0
A18: جمعیت غیرایرانی | B18: ='جمعیت تحت پوشش ابتدای سال'!E26 -> 0 | D18: میزان تولد خام (کل) سامانه سیب در هزار جمعیت | E18: =IFERROR(E16/B13*1000,0) -> 0 | G18: تعداد مرگ 1 تا 59 ماهه (ایرانی) | H18: =مرگ!E5+مرگ!E6+مرگ!H5+مرگ!H6 -> 0 | J18: درصد مرگ 1 تا 59 ماهه (کل) به کل مرگ | K18: =IFERROR(H22/H28*100,0) -> 0 | M18: میزان مرگ 1 تا 59 ماهه (ایرانی) به موالید ایرانی | N18: =IFERROR(H18/E17*1000,0) -> 0 | P18: میزان مرگ جوانان در هزار جمعیت کل | Q18: =IFERROR(H25/B13*1000,0) -> 0
A19: تعداد خانوار کل | B19: =B20+B21 -> 0 | D19: میزان تولد خام (ایرانی) سامانه سیب در هزار جمعیت | E19: =IFERROR(E17/H2*1000,0) -> 0 | G19: تعداد مرگ زیر 5 سال (ایرانی) | H19: =مرگ!E4+مرگ!E5+مرگ!E6+مرگ!H4+مرگ!H5+مرگ!H6 -> 0 | J19: درصد مرگ زیر 5 سال (کل) به کل مرگ | K19: =IFERROR(H23/H28*100,0) -> 0 | M19: میزان مرگ زیر 5 سال (ایرانی) به موالید ایرانی | N19: =IFERROR(H19/E17*1000,0) -> 0 | P19: میزان مرگ میانسالان در هزار جمعیت کل | Q19: =IFERROR(H26/B13*1000,0) -> 0
A20: تعداد خانوار ایرانی | B20: ='جمعیت تحت پوشش ابتدای سال'!D29 -> 0 | D20: نسبت جنسی در بدو تولد سامانه سیب | E20: =IFERROR(تولد!E7/تولد!F7*100,0) -> 0 | G20: تعداد مرگ نوزادان (کل) | H20: =مرگ!Q4 -> 0 | J20: درصد مرگ نوجوانان (کل) به کل مرگ | K20: =IFERROR(H24/H28*100,0) -> 0 | M20: میزان مرگ نوزادان (کل) به موالید کل | N20: =IFERROR(H20/E16*1000,0) -> 0 | P20: میزان مرگ سالمندان در هزار جمعیت کل | Q20: =IFERROR(H27/B13*1000,0) -> 0
A21: تعداد خانوار غیرایرانی | B21: ='جمعیت تحت پوشش ابتدای سال'!E29 -> 0 | D21: مجموع میزان های باروری اختصاصی سنی | E21: ='باروری کلی'!B13 -> 0 | G21: تعداد مرگ زیر یکسال (کل) | H21: =مرگ!Q4+مرگ!Q5 -> 0 | J21: درصد مرگ جوانان (کل) به کل مرگ | K21: =IFERROR(H25/H28*100,0) -> 0 | M21: میزان مرگ زیر یکسال (کل) به موالید کل | N21: =IFERROR(H21/E16*1000,0) -> 0
A22: بعد خانوار کل | B22: =IFERROR(B16/B19,0) -> 0 | D22: میزان باروری کلی TFR | E22: ='باروری کلی'!B14 -> 0 | G22: تعداد مرگ 1 تا 59 ماهه (کل) | H22: =مرگ!Q5+مرگ!Q6 -> 0 | J22: درصد مرگ میانسالان (کل) به کل مرگ | K22: =IFERROR(H26/H28*100,0) -> 0 | M22: میزان مرگ 1 تا 59 ماهه (کل) به موالید کل | N22: =IFERROR(H22/E16*1000,0) -> 0 | P22: تعداد مرد فوت شده | Q22: =مرگ!P25 -> 0
A23: رشد طبیعی جمعیت | B23: =IFERROR((E18-N28)/10,0) -> 0 | D23: میزان باروری عمومی GFR | E23: ='باروری کلی'!B15 -> 0 | G23: تعداد مرگ زیر 5 سال (کل) | H23: =مرگ!Q4+مرگ!Q5+مرگ!Q6 -> 0 | J23: درصد مرگ سالمندان (کل) به کل مرگ | K23: =IFERROR(H27/H28*100,0) -> 0 | M23: میزان مرگ زیر 5 سال (کل) به موالید کل | N23: =IFERROR(H23/E16*1000,0) -> 0 | P23: تعداد زن فوت شده | Q23: =مرگ!O25 -> 0
A24: تعداد زنان همسردار 10 تا 54 ساله | B24: ='جمعیت تحت پوشش ابتدای سال'!B42 -> 0 | D24: تعداد مرده زائی | E24: =تولد!C9 -> 0 | G24: تعداد مرگ نوجوانان (کل) | H24: =مرگ!Q7+مرگ!Q8+مرگ!Q9 -> 0 | M24: میزان مرگ نوجوانان (کل) در هزار جمعیت نوجوان | N24: =IFERROR(H24/B5*1000,0) -> 0 | P24: کل مرگ | Q24: =Q22+Q23 -> 0
A25: تعداد کل زنان 10 تا 54 ساله | B25: ='جمعیت تحت پوشش ابتدای سال'!C9+'جمعیت تحت پوشش ابتدای سال'!C10+'جمعیت تحت پوشش ابتدای سال'!C11+'جمعیت تحت پوشش ابتدای سال'!C12+'جمعیت تحت پوشش ابتدای سال'!C13+'جمعیت تحت پوشش ابتدای سال'!C14+'جمعیت تحت پوشش ابتدای سال'!C15+'جمعیت تحت پوشش ابتدای سال'!C16+'جمعیت تحت پوشش ابتدای سال'!C17+'جمعیت تحت پوشش ابتدای سال'!C18 -> 0 | D25: درصد مرده زائی | E25: =IFERROR(E24/(E16+E24)*100,0) -> 0 | G25: تعداد مرگ جوانان (کل) | H25: =مرگ!Q10+مرگ!Q11+مرگ!Q12 -> 0 | J25: تعداد مرگ ایرانی | K25: =مرگ!E25+مرگ!H25 -> 0 | M25: میزان مرگ جوانان (کل) در هزار جمعیت جوان | N25: =IFERROR(H25/B6*1000,0) -> 0 | P25: تعداد افراد فوت شده در مناطق شهری | Q25: =مرگ!E25+مرگ!K25 -> 0
A26: درصد زنان 10 تا 54 ساله شوهردار | B26: =IFERROR(B24/B25*100,0) -> 0 | D26: تعداد زایمان چندقلویی | E26: =تولد!AC9 -> 0 | G26: تعداد مرگ میانسالان (کل) | H26: =مرگ!Q13+مرگ!Q14+مرگ!Q15+مرگ!Q16+مرگ!Q17+مرگ!Q18 -> 0 | J26: تعداد مرگ غیرایرانی | K26: =مرگ!K25+مرگ!N25 -> 0 | M26: میزان مرگ میانسالان (کل) در هزار جمعیت میانسال | N26: =IFERROR(H26/B7*1000,0) -> 0 | P26: تعداد افراد فوت شده در مناطق روستایی | Q26: =مرگ!H25+مرگ!N25 -> 0
A27: درصد سرباری | B27: =IFERROR((B9+B11)/B10*100,0) -> 0 | D27: میزان تجدید نسل ناخالص | E27: =IFERROR((E22*تولد!F5)/'داشبورد شاخص ها'!E17,0) -> 0 | G27: تعداد مرگ سالمندان (کل) | H27: =مرگ!Q19+مرگ!Q20+مرگ!Q21+مرگ!Q22+مرگ!Q23+مرگ!Q24 -> 0 | J27: میزان مرگ ایرانی در هزار جمعیت ایرانی | K27: =IFERROR(K25/H2*1000,0) -> 0 | M27: میزان مرگ سالمندان (کل) در هزار جمعیت سالمندان | N27: =IFERROR(H27/B8*1000,0) -> 0 | P27: درصد مرگ مادر به علت عوارض بارداری و زایمان | Q27: =IFERROR(Q28/E16*100000,0) -> 0
G28: کل مرگ | H28: =H23+H24+H25+H26+H27 -> 0 | J28: میزان مرگ غیرایرانی در هزار جمعیت غیر ایرانی | K28: =IFERROR(K26/H3*1000,0) -> 0 | M28: میزان مرگ (کل) خام در هزار جمعیت | N28: =IFERROR(H28/B13*1000,0) -> 0 | P28: تعداد مرگ مادر به علت عوارض بارداری و زایمان | Q28: ='مرگ مادر به علت عوارض بارداری'!J13 -> 0
